BEGIN:VCALENDAR
VERSION:2.0
PRODID:-//Pat Hauldren - ECPv6.15.20//NONSGML v1.0//EN
CALSCALE:GREGORIAN
METHOD:PUBLISH
X-WR-CALNAME:Pat Hauldren
X-ORIGINAL-URL:https://pathauldrenbooks.com
X-WR-CALDESC:Events for Pat Hauldren
REFRESH-INTERVAL;VALUE=DURATION:PT1H
X-Robots-Tag:noindex
X-PUBLISHED-TTL:PT1H
BEGIN:VTIMEZONE
TZID:UTC
BEGIN:STANDARD
TZOFFSETFROM:+0000
TZOFFSETTO:+0000
TZNAME:UTC
DTSTART:20240101T000000
END:STANDARD
END:VTIMEZONE
BEGIN:VEVENT
DTSTART;VALUE=DATE:20251004
DTEND;VALUE=DATE:20251006
DTSTAMP:20260425T164224
CREATED:20250924T212715Z
LAST-MODIFIED:20250924T212715Z
UID:8928-1759536000-1759708799@pathauldrenbooks.com
SUMMARY:DFW Writers Conference
DESCRIPTION:DFW Writers Conference\nOct 4-5\, 2025\nHurst Conference Center\n1601 Campus Dr\nHurst\, Texas 76054 \nMore than 300 attendees\, 90+ classes\, panels and workshops\, 13 agents and editors\, and a full weekend of networking. \nFeatured guests: \nKeynote speaker: Carly Watters\, Senior Literary Agent at P. S. Literary. \nKeynote speaker: Kelly Bishop. \nSpecial guest: Ari Tison
URL:https://pathauldrenbooks.com/event/dfw-writers-conference/
LOCATION:Hurst Conference Center\, 1601 Campus Dr\, Hurst\, 76054\, United States
CATEGORIES:2025,convention,event
ATTACH;FMTTYPE=image/jpeg:https://pathauldrenbooks.com/wp-content/uploads/2025/09/DFW-Writers-Conference-Logo-Horizontal-1.jpg
END:VEVENT
END:VCALENDAR