BEGIN:VCALENDAR
VERSION:2.0
PRODID:-//Pat Hauldren - ECPv6.15.20//NONSGML v1.0//EN
CALSCALE:GREGORIAN
METHOD:PUBLISH
X-WR-CALNAME:Pat Hauldren
X-ORIGINAL-URL:https://pathauldrenbooks.com
X-WR-CALDESC:Events for Pat Hauldren
REFRESH-INTERVAL;VALUE=DURATION:PT1H
X-Robots-Tag:noindex
X-PUBLISHED-TTL:PT1H
BEGIN:VTIMEZONE
TZID:UTC
BEGIN:STANDARD
TZOFFSETFROM:+0000
TZOFFSETTO:+0000
TZNAME:UTC
DTSTART:20250101T000000
END:STANDARD
END:VTIMEZONE
BEGIN:VEVENT
DTSTART;VALUE=DATE:20260220
DTEND;VALUE=DATE:20260223
DTSTAMP:20260425T112402
CREATED:20250903T181502Z
LAST-MODIFIED:20260219T021839Z
UID:8594-1771545600-1771804799@pathauldrenbooks.com
SUMMARY:FenCon--Attending!
DESCRIPTION:FenCon — Attending!\nFebruary 20-22\, 2026\nNew hotel venue\, stay tuned for more info\nFenCon is a literary science fiction and fantasy convention with quite a lot of filk programming\, some science programming\, an outstanding collection of guests\, an art show\, a charity auction\, a short story contest\, a writers workshop\, our signature FenCon Cabaret\, costuming and maker programming\, and members like you. FenCon is a production of the Dallas Future Society. \nhttp://www.fencon.org/
URL:https://pathauldrenbooks.com/event/fencon-attending/
LOCATION:TX
CATEGORIES:2026,event
ATTACH;FMTTYPE=image/png:https://pathauldrenbooks.com/wp-content/uploads/2025/09/generic-web-site-banner.png
END:VEVENT
END:VCALENDAR