BEGIN:VCALENDAR
VERSION:2.0
PRODID:-//Pat Hauldren - ECPv6.15.20//NONSGML v1.0//EN
CALSCALE:GREGORIAN
METHOD:PUBLISH
X-ORIGINAL-URL:https://pathauldrenbooks.com
X-WR-CALDESC:Events for Pat Hauldren
REFRESH-INTERVAL;VALUE=DURATION:PT1H
X-Robots-Tag:noindex
X-PUBLISHED-TTL:PT1H
BEGIN:VTIMEZONE
TZID:America/Chicago
BEGIN:DAYLIGHT
TZOFFSETFROM:-0600
TZOFFSETTO:-0500
TZNAME:CDT
DTSTART:20240310T080000
END:DAYLIGHT
BEGIN:STANDARD
TZOFFSETFROM:-0500
TZOFFSETTO:-0600
TZNAME:CST
DTSTART:20241103T070000
END:STANDARD
BEGIN:DAYLIGHT
TZOFFSETFROM:-0600
TZOFFSETTO:-0500
TZNAME:CDT
DTSTART:20250309T080000
END:DAYLIGHT
BEGIN:STANDARD
TZOFFSETFROM:-0500
TZOFFSETTO:-0600
TZNAME:CST
DTSTART:20251102T070000
END:STANDARD
BEGIN:DAYLIGHT
TZOFFSETFROM:-0600
TZOFFSETTO:-0500
TZNAME:CDT
DTSTART:20260308T080000
END:DAYLIGHT
BEGIN:STANDARD
TZOFFSETFROM:-0500
TZOFFSETTO:-0600
TZNAME:CST
DTSTART:20261101T070000
END:STANDARD
END:VTIMEZONE
BEGIN:VEVENT
DTSTART;VALUE=DATE:20251115
DTEND;VALUE=DATE:20251117
DTSTAMP:20260425T164514
CREATED:20250628T194126Z
LAST-MODIFIED:20250628T194126Z
UID:4597-1763164800-1763337599@pathauldrenbooks.com
SUMMARY:Steampunk November
DESCRIPTION:Steampunk November 2025\nNovember 15-16\, 2025\n492 Cordes Drive\nVenus\, TX \nSteampunk Event \nSteampunk November is a 2-day outdoor festival brimming with live music\, captivating entertainment\, unique shopping\, special events\, and more. Camp onsite\, indulge in late-night entertainment\, and bond over stories by the fire. Join us for an unforgettable celebration of creativity and camaraderie!
URL:https://pathauldrenbooks.com/event/steampunk-november/
LOCATION:TX
CATEGORIES:2025,convention,event
ATTACH;FMTTYPE=:
END:VEVENT
END:VCALENDAR