BEGIN:VCALENDAR
VERSION:2.0
PRODID:-//Pat Hauldren - ECPv6.15.20//NONSGML v1.0//EN
CALSCALE:GREGORIAN
METHOD:PUBLISH
X-ORIGINAL-URL:https://pathauldrenbooks.com
X-WR-CALDESC:Events for Pat Hauldren
REFRESH-INTERVAL;VALUE=DURATION:PT1H
X-Robots-Tag:noindex
X-PUBLISHED-TTL:PT1H
BEGIN:VTIMEZONE
TZID:UTC
BEGIN:STANDARD
TZOFFSETFROM:+0000
TZOFFSETTO:+0000
TZNAME:UTC
DTSTART:20250101T000000
END:STANDARD
END:VTIMEZONE
BEGIN:VEVENT
DTSTART;VALUE=DATE:20260605
DTEND;VALUE=DATE:20260608
DTSTAMP:20260425T125107
CREATED:20260219T024130Z
LAST-MODIFIED:20260219T024852Z
UID:11170-1780617600-1780876799@pathauldrenbooks.com
SUMMARY:Lone Star Lit Fest--ATTENDING
DESCRIPTION:LONE STAR LITERARY FESTIVAL–ATTENDING\nJune 5 – 7\, 2026\nAustin\, TX\nAustin Southpark Hotel\nExperience the vibrant heart of Texas creativity at Lone Star Festival 2026. Celebrating Texas artists\, authors\, musicians\, and innovators.  Our event connects audiences with wide-ranging showcases\, workshops\, and networking opportunities. Join us in fostering a dynamic\, creative community in Texas\, where inspiration thrives and artistic excellence is nurtured. \nhttps://lsf26.com/
URL:https://pathauldrenbooks.com/event/lone-star-lit-fest-attending/
LOCATION:Austin Southpark Hotel\, 4140 Governors Row\, Austin\, TX\, 78744\, United States
CATEGORIES:2026,attending,convention,event
ATTACH;FMTTYPE=image/jpeg:https://pathauldrenbooks.com/wp-content/uploads/2026/02/images.jpg
END:VEVENT
END:VCALENDAR