BEGIN:VCALENDAR
VERSION:2.0
PRODID:-//Pat Hauldren - ECPv6.15.20//NONSGML v1.0//EN
CALSCALE:GREGORIAN
METHOD:PUBLISH
X-WR-CALNAME:Pat Hauldren
X-ORIGINAL-URL:https://pathauldrenbooks.com
X-WR-CALDESC:Events for Pat Hauldren
REFRESH-INTERVAL;VALUE=DURATION:PT1H
X-Robots-Tag:noindex
X-PUBLISHED-TTL:PT1H
BEGIN:VTIMEZONE
TZID:UTC
BEGIN:STANDARD
TZOFFSETFROM:+0000
TZOFFSETTO:+0000
TZNAME:UTC
DTSTART:20250101T000000
END:STANDARD
END:VTIMEZONE
BEGIN:VEVENT
DTSTART;VALUE=DATE:20260302
DTEND;VALUE=DATE:20260328
DTSTAMP:20260425T123222
CREATED:20250829T181348Z
LAST-MODIFIED:20260219T021709Z
UID:8243-1772409600-1774655999@pathauldrenbooks.com
SUMMARY:WORKSHOP--Worldbuilding Wizardry
DESCRIPTION:WORLDBUILDING WIZARDRY\nConstructing your setting through tropes\, character\, setting\, culture and style. This class a unique worldbuilding with romance\, romantic elements\, & relationship focus. Learn how to use your romantic/relationship tropes & elements to enhance your story worldbuilding. Each class attendee receives a FREE PDF of the workbook: The Cosmic Kitchen\, a Worldbuilding Workbook for Specuative Fiction Romance Writers. \nI’ll be presenting a writing workshop on worldbuilding at the Fantasy\, Futuristic\, & Paranormal Romance Writers Online Group in March 2026! All writers welcome! \nREGISTER FOR THIS CLASS HERE \n \nInstructor: Pat Hauldren\nStart Date: Monday\, March 2\, 2026\nEnd Date: Friday\, March 27\, 2026\nType: Group.io\nDuration: 4 Weeks\nUSD Fee: FF&P Member – $20; Non-Member – $25 \nWorldbuilding is all about context. Ninety-nine percent of the worldbuilding we do in our stories is dedicated to creating context for everything else in the story–setting\, character\, plot\, theme\, etc.. We’ll delve into what worldbuilding is and what elements we need from it\, how to use the worldbuilding elements best in our own stories. We will use the first three pages of your manuscript or story as worksheets focusing on your genre and genre elements and your overall story as a guide. Time to build! \nAbout the Instructor: \nPat Hauldren is a science fiction & fantasy author who teaches writing workshops online and live around the world. She has presented classes with online writers’ groups as well as community colleges and in Europe. Pat’s writing classes are a dynamic working writing experience for the student. The student gets extensive one-on-one time for rigorous personal attention and feedback as well as active class participation. \nREGISTER FOR THIS CLASS HERE \nREAD MORE ABOUT MY WORKSHOPS IN GENERAL HERE
URL:https://pathauldrenbooks.com/event/workshop-worldbuilding-wizardry/
LOCATION:Fantasy\, Futuristic\, & Paranormal Romance Writers Online Group
CATEGORIES:2026,workshop
ATTACH;FMTTYPE=image/webp:https://pathauldrenbooks.com/wp-content/uploads/2025/08/wb-wizardry.webp
END:VEVENT
END:VCALENDAR