BEGIN:VCALENDAR
VERSION:2.0
PRODID:-//Pat Hauldren - ECPv6.15.20//NONSGML v1.0//EN
CALSCALE:GREGORIAN
METHOD:PUBLISH
X-ORIGINAL-URL:https://pathauldrenbooks.com
X-WR-CALDESC:Events for Pat Hauldren
REFRESH-INTERVAL;VALUE=DURATION:PT1H
X-Robots-Tag:noindex
X-PUBLISHED-TTL:PT1H
BEGIN:VTIMEZONE
TZID:UTC
BEGIN:STANDARD
TZOFFSETFROM:+0000
TZOFFSETTO:+0000
TZNAME:UTC
DTSTART:20250101T000000
END:STANDARD
END:VTIMEZONE
BEGIN:VEVENT
DTSTART;VALUE=DATE:20260706
DTEND;VALUE=DATE:20260801
DTSTAMP:20260425T140107
CREATED:20250829T182221Z
LAST-MODIFIED:20250829T182311Z
UID:8249-1783296000-1785542399@pathauldrenbooks.com
SUMMARY:WORKSHOP--Generating Gorgeous Genre
DESCRIPTION:GENERATING GORGEOUS GENRE\nUsing Genre Elements and Tropes to Enhance Your Stories.\nI’ll be presenting a writing workshop on enhacing our stories with genre at the Fantasy\, Futuristic\, & Paranormal Romance Writers Online Group in July 2026! All writers welcome! \nInstructor: Pat Hauldren\nStart Date: Monday\, July 6\, 2026\nEnd Date: Friday\, July 31\, 2026\nType: Group.io\nDuration: 4 Weeks\nUSD Fee: FF&P Member – $20; Non-Member – $25 \nGenres are special in storytelling. Each genre has it’s own shorthand–tropes or elements–that make a genre that specific genre. Bestselling genre-writing authors use those tropes to feed their readers’s needs. Romance readers crave romantic elements. Fantasy readers desire unreal elements. Regardless of the genre you are writing\, weaving in those genre tropes is one of the best methods for feeding your reader’s genre addictions. To generate gorgeous genre stories\, we must learn the elements/tropes and use them to best effect. In this class\, we’ll analyze others’ work and enhance our own first three pages. Your readers are addicted to those tropes\, so let’s feed them! \nAbout the Instructor: \nPat Hauldren is a science fiction & fantasy author who teaches writing workshops online and live around the world. She has presented classes with online writers’ groups as well as community colleges and in Europe. Pat’s writing classes are a dynamic working writing experience for the student. The student gets extensive one-on-one time for rigorous personal attention and feedback as well as active class participation. \nREGISTER FOR THIS CLASS HERE \nREAD MORE ABOUT MY WORKSHOPS IN GENERAL HERE
URL:https://pathauldrenbooks.com/event/workshop-generating-gorgeous-genre/
LOCATION:Fantasy\, Futuristic\, & Paranormal Romance Writers Online Group
CATEGORIES:2026,workshop
ATTACH;FMTTYPE=image/webp:https://pathauldrenbooks.com/wp-content/uploads/2025/08/GORGEOUSGENRE.webp
END:VEVENT
END:VCALENDAR