BEGIN:VCALENDAR
VERSION:2.0
PRODID:-//Pat Hauldren - ECPv6.15.20//NONSGML v1.0//EN
CALSCALE:GREGORIAN
METHOD:PUBLISH
X-WR-CALNAME:Pat Hauldren
X-ORIGINAL-URL:https://pathauldrenbooks.com
X-WR-CALDESC:Events for Pat Hauldren
REFRESH-INTERVAL;VALUE=DURATION:PT1H
X-Robots-Tag:noindex
X-PUBLISHED-TTL:PT1H
BEGIN:VTIMEZONE
TZID:America/Chicago
BEGIN:DAYLIGHT
TZOFFSETFROM:-0600
TZOFFSETTO:-0500
TZNAME:CDT
DTSTART:20240310T080000
END:DAYLIGHT
BEGIN:STANDARD
TZOFFSETFROM:-0500
TZOFFSETTO:-0600
TZNAME:CST
DTSTART:20241103T070000
END:STANDARD
BEGIN:DAYLIGHT
TZOFFSETFROM:-0600
TZOFFSETTO:-0500
TZNAME:CDT
DTSTART:20250309T080000
END:DAYLIGHT
BEGIN:STANDARD
TZOFFSETFROM:-0500
TZOFFSETTO:-0600
TZNAME:CST
DTSTART:20251102T070000
END:STANDARD
BEGIN:DAYLIGHT
TZOFFSETFROM:-0600
TZOFFSETTO:-0500
TZNAME:CDT
DTSTART:20260308T080000
END:DAYLIGHT
BEGIN:STANDARD
TZOFFSETFROM:-0500
TZOFFSETTO:-0600
TZNAME:CST
DTSTART:20261101T070000
END:STANDARD
END:VTIMEZONE
BEGIN:VEVENT
DTSTART;VALUE=DATE:20250523
DTEND;VALUE=DATE:20250526
DTSTAMP:20260426T001323
CREATED:20250416T123134Z
LAST-MODIFIED:20250416T123134Z
UID:2575-1747958400-1748217599@pathauldrenbooks.com
SUMMARY:GalaxyCon
DESCRIPTION:See you in Oklahoma for GalaxyCon 2025! \nMay 23-25\, 2025  \nOklahoma City Convention Center\n100 Mick Cornett Drive\nOklahoma City\, OK 73109 United States \nWhat is GalaxyCon? \nIt’s a 3-Day FESTIVAL OF FANDOM with celebrities\, artists\, writers\, voice actors\, cosplayers\, entertainers\, creators\, wrestlers\, fan groups\, panelists. Meet actors\, authors\, celebrities and more! Like Lour Ferrigno\, William Shatner\, Danny Trejo\, Helen Hunt\, author Megan Mackie\, 4 Horseman Publications\,
URL:https://pathauldrenbooks.com/event/galaxycon/
CATEGORIES:2025,convention,event
ATTACH;FMTTYPE=:
END:VEVENT
BEGIN:VEVENT
DTSTART;TZID=America/Chicago:20250506T180000
DTEND;TZID=America/Chicago:20250506T190000
DTSTAMP:20260426T001323
CREATED:20250423T145024Z
LAST-MODIFIED:20250423T145024Z
UID:3037-1746554400-1746558000@pathauldrenbooks.com
SUMMARY:*Sarah Penner speaks
DESCRIPTION:author Sarah Jenner in Allen!\n\nTuesday\, May 6\, 2025\n\n \n\nBarnes & Noble Bookstore\nWatters Creek Village\n988 Village Green Drive\nAllen\, TX 75013\n(469) 342-1304\n\n \n\nNew York Times bestselling author\, Sarah Penner joins us to celebrate the release of her new book “The Amalfi Curse”! Sarah will be joining us for a Q&A and signing. The Q&A will begin at 6:00 and the signing will follow starting around 7! Call our store to reserve your copy of “The Amalfi Curse” as your ticket to the event. We can’t wait to see you there!\n\n \n\nThis event will require a purchase of Sarah’s newest book\, “The Amalfi Curse\,” reserved and purchased from our store. Please call our store to reserve your copy. Check the bookstore’s website for more information.\n\n \n\nFYI\, the Barnes & Noble Exclusive Edition features gold foil on the cover\, beautifully designed sprayed edges\, four color end sheets featuring a stunning image and exclusive content from the author.
URL:https://pathauldrenbooks.com/event/sarah-penner-speaks/
CATEGORIES:2025,event
ATTACH;FMTTYPE=image/jpeg:https://pathauldrenbooks.com/wp-content/uploads/2025/04/9780778387886_p0_v1_s600x595.jpg
END:VEVENT
BEGIN:VEVENT
DTSTART;TZID=America/Chicago:20250419T080000
DTEND;TZID=America/Chicago:20250419T170000
DTSTAMP:20260426T001323
CREATED:20250419T094440Z
LAST-MODIFIED:20250419T094440Z
UID:2948-1745049600-1745082000@pathauldrenbooks.com
SUMMARY:* David Sedaris in Dallas
DESCRIPTION:An Evening with David Sedaris\nApril 23\, 2025 \n7:30pm — 9:00 pm \n\n\n\nLocation: McFarlin Auditorium\, Southern Methodist University \nBack by popular demand\, David Sedaris\, one of America’s preeminent humor writers\, returns to share his trademark sardonic wit and incisive social critiques. The great skill with which he slices through cultural euphemisms and political correctness proves that Sedaris is a master of satire and one of the most observant writers addressing the human condition today. At this event\, he will read new and unpublished material\, answer questions from the audience\, and sign books.
URL:https://pathauldrenbooks.com/event/david-sedaris-in-dallas/
CATEGORIES:2025,attending,event
ATTACH;FMTTYPE=:
END:VEVENT
END:VCALENDAR