BEGIN:VCALENDAR
VERSION:2.0
PRODID:-//Pat Hauldren - ECPv6.15.20//NONSGML v1.0//EN
CALSCALE:GREGORIAN
METHOD:PUBLISH
X-ORIGINAL-URL:https://pathauldrenbooks.com
X-WR-CALDESC:Events for Pat Hauldren
REFRESH-INTERVAL;VALUE=DURATION:PT1H
X-Robots-Tag:noindex
X-PUBLISHED-TTL:PT1H
BEGIN:VTIMEZONE
TZID:UTC
BEGIN:STANDARD
TZOFFSETFROM:+0000
TZOFFSETTO:+0000
TZNAME:UTC
DTSTART:20250101T000000
END:STANDARD
END:VTIMEZONE
BEGIN:VEVENT
DTSTART;VALUE=DATE:20260425
DTEND;VALUE=DATE:20260426
DTSTAMP:20260423T170253
CREATED:20260219T023312Z
LAST-MODIFIED:20260219T030606Z
UID:11165-1777075200-1777161599@pathauldrenbooks.com
SUMMARY:Texas Hot Link Festival--ATTENDING
DESCRIPTION:Texas Hot Link Festival–ATTENDING!\nApril 26\, 2026\n(downton Pittsburgh\, TX)\n212 Market Street–Pittsburg\, TX 75686\nTexas Hot Link Festova; 2026
URL:https://pathauldrenbooks.com/event/texas-hot-link-festival/
LOCATION:TX
CATEGORIES:2026,attending,event
ATTACH;FMTTYPE=image/png:https://pathauldrenbooks.com/wp-content/uploads/2026/02/THLF-Writers-Block-flyer-2026.png
END:VEVENT
END:VCALENDAR