BEGIN:VCALENDAR
VERSION:2.0
PRODID:-//Pat Hauldren - ECPv6.15.20//NONSGML v1.0//EN
CALSCALE:GREGORIAN
METHOD:PUBLISH
X-WR-CALNAME:Pat Hauldren
X-ORIGINAL-URL:https://pathauldrenbooks.com
X-WR-CALDESC:Events for Pat Hauldren
REFRESH-INTERVAL;VALUE=DURATION:PT1H
X-Robots-Tag:noindex
X-PUBLISHED-TTL:PT1H
BEGIN:VTIMEZONE
TZID:America/Chicago
BEGIN:DAYLIGHT
TZOFFSETFROM:-0600
TZOFFSETTO:-0500
TZNAME:CDT
DTSTART:20240310T080000
END:DAYLIGHT
BEGIN:STANDARD
TZOFFSETFROM:-0500
TZOFFSETTO:-0600
TZNAME:CST
DTSTART:20241103T070000
END:STANDARD
BEGIN:DAYLIGHT
TZOFFSETFROM:-0600
TZOFFSETTO:-0500
TZNAME:CDT
DTSTART:20250309T080000
END:DAYLIGHT
BEGIN:STANDARD
TZOFFSETFROM:-0500
TZOFFSETTO:-0600
TZNAME:CST
DTSTART:20251102T070000
END:STANDARD
BEGIN:DAYLIGHT
TZOFFSETFROM:-0600
TZOFFSETTO:-0500
TZNAME:CDT
DTSTART:20260308T080000
END:DAYLIGHT
BEGIN:STANDARD
TZOFFSETFROM:-0500
TZOFFSETTO:-0600
TZNAME:CST
DTSTART:20261101T070000
END:STANDARD
END:VTIMEZONE
BEGIN:VEVENT
DTSTART;VALUE=DATE:20250530
DTEND;VALUE=DATE:20250602
DTSTAMP:20260426T041429
CREATED:20250416T125849Z
LAST-MODIFIED:20250416T125849Z
UID:2582-1748563200-1748822399@pathauldrenbooks.com
SUMMARY:FanExpo Dallas 2025
DESCRIPTION:Everyone is a fan of something\, and FAN EXPO Dallas is a place to celebrate all things pop culture. Get an autograph or a photo with your favorite guest then get the inside scoop about your favorite movies and TV shows at our celebrity panels! Watch professional comic artists battle it out in our popular Sketch Duels\, learn from our “How To” workshops\, and take photos with your favorite costumed characters! It’s also a great place to buy a unique gift (or treat yourself!) with a huge show floor for shopping madness.
URL:https://pathauldrenbooks.com/event/fanexpo-dallas-2025/
CATEGORIES:2025,convention,event
ATTACH;FMTTYPE=:
END:VEVENT
END:VCALENDAR