BEGIN:VCALENDAR
VERSION:2.0
PRODID:-//Pat Hauldren - ECPv6.15.20//NONSGML v1.0//EN
CALSCALE:GREGORIAN
METHOD:PUBLISH
X-WR-CALNAME:Pat Hauldren
X-ORIGINAL-URL:https://pathauldrenbooks.com
X-WR-CALDESC:Events for Pat Hauldren
REFRESH-INTERVAL;VALUE=DURATION:PT1H
X-Robots-Tag:noindex
X-PUBLISHED-TTL:PT1H
BEGIN:VTIMEZONE
TZID:UTC
BEGIN:STANDARD
TZOFFSETFROM:+0000
TZOFFSETTO:+0000
TZNAME:UTC
DTSTART:20250101T000000
END:STANDARD
END:VTIMEZONE
BEGIN:VEVENT
DTSTART;VALUE=DATE:20261005
DTEND;VALUE=DATE:20261031
DTSTAMP:20260425T164903
CREATED:20250829T182947Z
LAST-MODIFIED:20250829T182947Z
UID:8254-1791158400-1793404799@pathauldrenbooks.com
SUMMARY:WORKSHOP--First Page Fixes
DESCRIPTION:FIRST PAGE FIXES\nAnalyzing Your First Pages Using Bestselling Authors’ Techniques\nInstructor: Pat Hauldren\nStart Date: Monday\, October 5\, 2026\nEnd Date: Friday\, October 30\, 2026\nType: Group.io\nDuration: 4 Weeks\nUSD Fee: FF&P Member – $20; Non-Member – $25 \nBestsellers are bestsellers for a reason. Bestselling authors use their writing toolbox and skills to create a fascinating story. In this class\, we will analyze bestselling authors and see how they created their bestseller and apply those techniques to our own. Bestseller here we come! \nAbout the Instructor: \nPat Hauldren is a science fiction & fantasy author who teaches writing workshops online and live around the world. She has presented classes with online writers’ groups as well as community colleges and in Europe. Pat’s writing classes are a dynamic working writing experience for the student. The student gets extensive one-on-one time for rigorous personal attention and feedback as well as active class participation. \nREGISTER FOR THIS CLASS HERE \nREAD MORE ABOUT MY WORKSHOPS IN GENERAL HERE
URL:https://pathauldrenbooks.com/event/workshop-first-page-fixes/
LOCATION:Fantasy\, Futuristic\, & Paranormal Romance Writers Online Group
CATEGORIES:2026,workshop
ATTACH;FMTTYPE=image/png:https://pathauldrenbooks.com/wp-content/uploads/2025/08/1st-page-fixes.png
END:VEVENT
END:VCALENDAR