BEGIN:VCALENDAR
VERSION:2.0
PRODID:-//Pat Hauldren - ECPv6.15.20//NONSGML v1.0//EN
CALSCALE:GREGORIAN
METHOD:PUBLISH
X-ORIGINAL-URL:https://pathauldrenbooks.com
X-WR-CALDESC:Events for Pat Hauldren
REFRESH-INTERVAL;VALUE=DURATION:PT1H
X-Robots-Tag:noindex
X-PUBLISHED-TTL:PT1H
BEGIN:VTIMEZONE
TZID:America/Chicago
BEGIN:DAYLIGHT
TZOFFSETFROM:-0600
TZOFFSETTO:-0500
TZNAME:CDT
DTSTART:20240310T080000
END:DAYLIGHT
BEGIN:STANDARD
TZOFFSETFROM:-0500
TZOFFSETTO:-0600
TZNAME:CST
DTSTART:20241103T070000
END:STANDARD
BEGIN:DAYLIGHT
TZOFFSETFROM:-0600
TZOFFSETTO:-0500
TZNAME:CDT
DTSTART:20250309T080000
END:DAYLIGHT
BEGIN:STANDARD
TZOFFSETFROM:-0500
TZOFFSETTO:-0600
TZNAME:CST
DTSTART:20251102T070000
END:STANDARD
BEGIN:DAYLIGHT
TZOFFSETFROM:-0600
TZOFFSETTO:-0500
TZNAME:CDT
DTSTART:20260308T080000
END:DAYLIGHT
BEGIN:STANDARD
TZOFFSETFROM:-0500
TZOFFSETTO:-0600
TZNAME:CST
DTSTART:20261101T070000
END:STANDARD
END:VTIMEZONE
BEGIN:VEVENT
DTSTART;VALUE=DATE:20250620
DTEND;VALUE=DATE:20250623
DTSTAMP:20260426T003735
CREATED:20250416T130827Z
LAST-MODIFIED:20250416T130827Z
UID:2589-1750377600-1750636799@pathauldrenbooks.com
SUMMARY:SoonerCon 33
DESCRIPTION:Soonercon 2025\nJune 20-22\, 2025\nEmbassy Suites by Hilton Norman Hotel & Conference Center\n  View on MapNorman\, OK \nScience Fiction Convention with Comics\, Fantasy\, and Gaming programming \nSoonercon is Oklahoma’s premier pop culture convention run by fans for fans. We provide a multi-genre fandom experience like none other in the region. \nAt Soonercon you’ll find celebrity guests\, expert panel discussions\, workshops\, and live performances spanning film making\, STEM\, art\, writing\, gaming\, comics\, history\, pop culture\, TV\, anime\, music\, children’s programming\, costuming\, podcasting\, content creation\, and much more. There’s always room for another place at the fandom table! Join us. \nSoonercon is part of the 501(c)3 nonprofit Future Society of Oklahoma.
URL:https://pathauldrenbooks.com/event/soonercon-33/
LOCATION:TX
CATEGORIES:2025,convention,event
ATTACH;FMTTYPE=:
END:VEVENT
END:VCALENDAR