BEGIN:VCALENDAR
VERSION:2.0
PRODID:-//Pat Hauldren - ECPv6.15.20//NONSGML v1.0//EN
CALSCALE:GREGORIAN
METHOD:PUBLISH
X-ORIGINAL-URL:https://pathauldrenbooks.com
X-WR-CALDESC:Events for Pat Hauldren
REFRESH-INTERVAL;VALUE=DURATION:PT1H
X-Robots-Tag:noindex
X-PUBLISHED-TTL:PT1H
BEGIN:VTIMEZONE
TZID:America/Chicago
BEGIN:DAYLIGHT
TZOFFSETFROM:-0600
TZOFFSETTO:-0500
TZNAME:CDT
DTSTART:20240310T080000
END:DAYLIGHT
BEGIN:STANDARD
TZOFFSETFROM:-0500
TZOFFSETTO:-0600
TZNAME:CST
DTSTART:20241103T070000
END:STANDARD
BEGIN:DAYLIGHT
TZOFFSETFROM:-0600
TZOFFSETTO:-0500
TZNAME:CDT
DTSTART:20250309T080000
END:DAYLIGHT
BEGIN:STANDARD
TZOFFSETFROM:-0500
TZOFFSETTO:-0600
TZNAME:CST
DTSTART:20251102T070000
END:STANDARD
BEGIN:DAYLIGHT
TZOFFSETFROM:-0600
TZOFFSETTO:-0500
TZNAME:CDT
DTSTART:20260308T080000
END:DAYLIGHT
BEGIN:STANDARD
TZOFFSETFROM:-0500
TZOFFSETTO:-0600
TZNAME:CST
DTSTART:20261101T070000
END:STANDARD
END:VTIMEZONE
BEGIN:VEVENT
DTSTART;VALUE=DATE:20250919
DTEND;VALUE=DATE:20250922
DTSTAMP:20260425T223427
CREATED:20250905T172325Z
LAST-MODIFIED:20250911T195915Z
UID:8612-1758240000-1758499199@pathauldrenbooks.com
SUMMARY:P-CON SciFi Fantasy LitCon -- ATTENDING!
DESCRIPTION:P-CON SciFi Fantasy LitCon–ATTENDING!\nSept. 19-21\, 2025\nHoliday Inn DFW South\n14320 Centre Station Dr\, Fort Worth\, TX\, 76155\n\nWelcoming P-Con Guest of Honor David Weber!\n\n\n\nJoin us September 19-21\, 2025 at the Holiday Inn DFW South to meet renowned author David Weber. P-Con is excited to include David Weber as a Guest of Honor this year. Author of several novels and anthologies\, David Weber is the creator of the Honorverse and the Safehold universes. He also plays well with other writers\, and can be seen co-writing stories with Jane Lindskold\, Jacob Holo\, Charles E. Gannon\, and several other folks who hang out at Baen’s Bar.
URL:https://pathauldrenbooks.com/event/p-con-scifi-fantasy-litcon-attending/
LOCATION:Holiday Inn DFW Southwest\, 14320 Centre Station Dr\, Fort Worth\, TX\, 76155\, United States
CATEGORIES:2025,attending,convention,event
ATTACH;FMTTYPE=image/jpeg:https://pathauldrenbooks.com/wp-content/uploads/2025/09/pcon-logo-header.jpg
END:VEVENT
END:VCALENDAR