BEGIN:VCALENDAR
VERSION:2.0
PRODID:-//Pat Hauldren - ECPv6.15.20//NONSGML v1.0//EN
CALSCALE:GREGORIAN
METHOD:PUBLISH
X-ORIGINAL-URL:https://pathauldrenbooks.com
X-WR-CALDESC:Events for Pat Hauldren
REFRESH-INTERVAL;VALUE=DURATION:PT1H
X-Robots-Tag:noindex
X-PUBLISHED-TTL:PT1H
BEGIN:VTIMEZONE
TZID:America/Chicago
BEGIN:DAYLIGHT
TZOFFSETFROM:-0600
TZOFFSETTO:-0500
TZNAME:CDT
DTSTART:20240310T080000
END:DAYLIGHT
BEGIN:STANDARD
TZOFFSETFROM:-0500
TZOFFSETTO:-0600
TZNAME:CST
DTSTART:20241103T070000
END:STANDARD
BEGIN:DAYLIGHT
TZOFFSETFROM:-0600
TZOFFSETTO:-0500
TZNAME:CDT
DTSTART:20250309T080000
END:DAYLIGHT
BEGIN:STANDARD
TZOFFSETFROM:-0500
TZOFFSETTO:-0600
TZNAME:CST
DTSTART:20251102T070000
END:STANDARD
BEGIN:DAYLIGHT
TZOFFSETFROM:-0600
TZOFFSETTO:-0500
TZNAME:CDT
DTSTART:20260308T080000
END:DAYLIGHT
BEGIN:STANDARD
TZOFFSETFROM:-0500
TZOFFSETTO:-0600
TZNAME:CST
DTSTART:20261101T070000
END:STANDARD
END:VTIMEZONE
BEGIN:VEVENT
DTSTART;VALUE=DATE:20250523
DTEND;VALUE=DATE:20250526
DTSTAMP:20260426T042839
CREATED:20250416T123134Z
LAST-MODIFIED:20250416T123134Z
UID:2575-1747958400-1748217599@pathauldrenbooks.com
SUMMARY:GalaxyCon
DESCRIPTION:See you in Oklahoma for GalaxyCon 2025! \nMay 23-25\, 2025  \nOklahoma City Convention Center\n100 Mick Cornett Drive\nOklahoma City\, OK 73109 United States \nWhat is GalaxyCon? \nIt’s a 3-Day FESTIVAL OF FANDOM with celebrities\, artists\, writers\, voice actors\, cosplayers\, entertainers\, creators\, wrestlers\, fan groups\, panelists. Meet actors\, authors\, celebrities and more! Like Lour Ferrigno\, William Shatner\, Danny Trejo\, Helen Hunt\, author Megan Mackie\, 4 Horseman Publications\,
URL:https://pathauldrenbooks.com/event/galaxycon/
LOCATION:TX
CATEGORIES:2025,convention,event
ATTACH;FMTTYPE=:
END:VEVENT
END:VCALENDAR