BEGIN:VCALENDAR
VERSION:2.0
PRODID:-//Pat Hauldren - ECPv6.15.20//NONSGML v1.0//EN
CALSCALE:GREGORIAN
METHOD:PUBLISH
X-ORIGINAL-URL:https://pathauldrenbooks.com
X-WR-CALDESC:Events for Pat Hauldren
REFRESH-INTERVAL;VALUE=DURATION:PT1H
X-Robots-Tag:noindex
X-PUBLISHED-TTL:PT1H
BEGIN:VTIMEZONE
TZID:UTC
BEGIN:STANDARD
TZOFFSETFROM:+0000
TZOFFSETTO:+0000
TZNAME:UTC
DTSTART:20250101T000000
END:STANDARD
END:VTIMEZONE
BEGIN:VEVENT
DTSTART;TZID=UTC:20260627T100000
DTEND;TZID=UTC:20260628T180000
DTSTAMP:20260425T141420
CREATED:20260219T025911Z
LAST-MODIFIED:20260219T025946Z
UID:11176-1782554400-1782669600@pathauldrenbooks.com
SUMMARY:Texas Horror Lit Festival--ATTENDING
DESCRIPTION:TEXAS HORROR LITERARY FESTIVAL\nJun 27 at 10 am to Jun 28 at 6 pm CDT\nIrving Convention Center at Las Colinas Irving\, TX\nTexas Horror Lit Fest is a two-day literary event spotlighting works in Horror\, Science Fiction\, Fantasy\, and dark or speculative genres.
URL:https://pathauldrenbooks.com/event/texas-horror-lit-festival-attending/
LOCATION:Irving Covention Center\, 500 West Las Colinas Boulevard\, Irving\, TX\, 75039\, United States
CATEGORIES:2026,attending,convention,event
ATTACH;FMTTYPE=image/jpeg:https://pathauldrenbooks.com/wp-content/uploads/2026/02/TXHORROR.jpg
END:VEVENT
END:VCALENDAR